BEGIN:VCALENDAR
VERSION:2.0
PRODID:Linklings LLC
BEGIN:VTIMEZONE
TZID:Europe/Stockholm
X-LIC-LOCATION:Europe/Stockholm
BEGIN:DAYLIGHT
TZOFFSETFROM:+0100
TZOFFSETTO:+0200
TZNAME:CEST
DTSTART:19700308T020000
RRULE:FREQ=YEARLY;BYMONTH=3;BYDAY=-1SU
END:DAYLIGHT
BEGIN:STANDARD
TZOFFSETFROM:+0200
TZOFFSETTO:+0100
TZNAME:CET
DTSTART:19701101T020000
RRULE:FREQ=YEARLY;BYMONTH=10;BYDAY=-1SU
END:STANDARD
END:VTIMEZONE
BEGIN:VEVENT
DTSTAMP:20260421T090513Z
LOCATION:Bldg. 6 - Room 002
DTSTART;TZID=Europe/Stockholm:20260629T150000
DTEND;TZID=Europe/Stockholm:20260629T153000
UID:submissions.pasc-conference.org_PASC26_sess102_msa105@linklings.com
SUMMARY:Panel on the Evolution of Workflow Management Software in Service 
 of Scientific Discovery
DESCRIPTION:Fabio Affinito (CINECA), Iacopo Colonnelli (University of Turi
 n), Juan Pablo Dorsch (ETH Zurich / CSCS), Francesc Lordan (Barcelona Supe
 rcomputing Center), and Julian Geiger (Paul Scherrer Institute)\n\nThis co
 ncluding panel discussion gather experts in HPC architecture, workflow run
 time systems, and scientific software engineering to reflect on cross-doma
 in lessons, best practices, and the future of workflow co-design at exasca
 le. The panelists are representative of different solutions for workflow m
 anagement tailored on their respective scientific domain.\n\nDomain: Chemi
 stry and Materials, Climate, Weather, and Earth Sciences, Life Sciences, C
 omputational Methods and Applied Mathematics\n\nSession Chairs: Fabio Affi
 nito (CINECA), Nur Aiman Fadel (ETH Zurich / CSCS), and Filippo Spiga (NVI
 DIA Inc.)\n\n
END:VEVENT
END:VCALENDAR
