BEGIN:VCALENDAR
VERSION:2.0
PRODID:Linklings LLC
BEGIN:VTIMEZONE
TZID:Europe/Stockholm
X-LIC-LOCATION:Europe/Stockholm
BEGIN:DAYLIGHT
TZOFFSETFROM:+0100
TZOFFSETTO:+0200
TZNAME:CEST
DTSTART:19700308T020000
RRULE:FREQ=YEARLY;BYMONTH=3;BYDAY=-1SU
END:DAYLIGHT
BEGIN:STANDARD
TZOFFSETFROM:+0200
TZOFFSETTO:+0100
TZNAME:CET
DTSTART:19701101T020000
RRULE:FREQ=YEARLY;BYMONTH=10;BYDAY=-1SU
END:STANDARD
END:VTIMEZONE
BEGIN:VEVENT
DTSTAMP:20260421T090513Z
LOCATION:Bldg. 6 - Room 003
DTSTART;TZID=Europe/Stockholm:20260629T133000
DTEND;TZID=Europe/Stockholm:20260629T140000
UID:submissions.pasc-conference.org_PASC26_sess103_msa175@linklings.com
SUMMARY:The PORTALS Workflow: Accelerating Core Transport Predictions with
  Surrogate-Based Optimization Methods
DESCRIPTION:P. Rodriguez-Fernandez and N.T. Howard (MIT Plasma Science and
  Fusion Center) and J. Candy (General Atomics)\n\nPredicting core performa
 nce in magnetic confinement fusion devices requires accurately modeling th
 e balance between heating sources and transport mechanisms. However, the n
 onlinear electromagnetic turbulence in tokamak and stellarator plasmas mak
 es such modeling computationally demanding, as capturing all relevant scal
 es necessitates the use of expensive nonlinear gyrokinetic simulations—cur
 rently the gold standard, as implemented in codes such as CGYRO [1]. This 
 talk presents the application of surrogate-based optimization (SBO) method
 s for efficient integration with nonlinear gyrokinetic codes to perform pr
 edictive transport modeling. The PORTALS workflow [2,3], which combines SB
 O techniques with physics guidance, has enabled the highest-fidelity predi
 ctions of burning plasma core performance to date. The use of PORTALS, alo
 ng with advances in high-performance computing acceleration of gyrokinetic
  simulations, marks the beginning of a new era in core transport research—
 one in which high-fidelity physics models can directly inform the design o
 f next-generation fusion devices.\n\n[1]  J. Candy et al Journal of Comput
 ational Physics 324, 73–93 (2016)\n[2] 	P. Rodriguez-Fernandez et al Nucl.
  Fusion 62 076036 (2022)\n[3] 	P. Rodriguez-Fernandez et al Nucl. Fusion 6
 4 076034 (2024)\n\nDomain: Physics, Computational Methods and Applied Math
 ematics\n\nSession Chairs: Stephan Brunner (EPFL), Eric Sonnendruecker (Ma
 x Planck Institute for Plasma Physics), and Florian Hindenlang (Max Planck
  Institute for Plasma Physics)\n\n
END:VEVENT
END:VCALENDAR
