BEGIN:VCALENDAR
VERSION:2.0
PRODID:Linklings LLC
BEGIN:VTIMEZONE
TZID:Europe/Stockholm
X-LIC-LOCATION:Europe/Stockholm
BEGIN:DAYLIGHT
TZOFFSETFROM:+0100
TZOFFSETTO:+0200
TZNAME:CEST
DTSTART:19700308T020000
RRULE:FREQ=YEARLY;BYMONTH=3;BYDAY=-1SU
END:DAYLIGHT
BEGIN:STANDARD
TZOFFSETFROM:+0200
TZOFFSETTO:+0100
TZNAME:CET
DTSTART:19701101T020000
RRULE:FREQ=YEARLY;BYMONTH=10;BYDAY=-1SU
END:STANDARD
END:VTIMEZONE
BEGIN:VEVENT
DTSTAMP:20260421T090513Z
LOCATION:Plenary Room (Bldg. 6 - 001)
DTSTART;TZID=Europe/Stockholm:20260629T100000
DTEND;TZID=Europe/Stockholm:20260629T103000
UID:submissions.pasc-conference.org_PASC26_sess107@linklings.com
SUMMARY:Welcome to PASC26
DESCRIPTION:Welcome from the Conference Co-Chairs\n\nThe conference co-cha
 irs Dr. Elaine Raybourn and Prof. Dominik Obrist open PASC26.\n\n\nElaine 
 Raybourn (University of Central Florida) and Dominik Obrist (University of
  Bern)\n---------------------\nWelcome from the Local Host\n\nWelcome from
  Prof. Dr. Hugues Abriel, Vice-Rector for Research and Innovation at the U
 niversity of Bern.\n\n\nHugues Abriel (University of Bern)\n\nSession Chai
 rs: Dominik Obrist (University of Bern) and Elaine M. Raybourn (University
  of Central Florida)
END:VEVENT
END:VCALENDAR
