BEGIN:VCALENDAR
VERSION:2.0
PRODID:Linklings LLC
BEGIN:VTIMEZONE
TZID:Europe/Stockholm
X-LIC-LOCATION:Europe/Stockholm
BEGIN:DAYLIGHT
TZOFFSETFROM:+0100
TZOFFSETTO:+0200
TZNAME:CEST
DTSTART:19700308T020000
RRULE:FREQ=YEARLY;BYMONTH=3;BYDAY=-1SU
END:DAYLIGHT
BEGIN:STANDARD
TZOFFSETFROM:+0200
TZOFFSETTO:+0100
TZNAME:CET
DTSTART:19701101T020000
RRULE:FREQ=YEARLY;BYMONTH=10;BYDAY=-1SU
END:STANDARD
END:VTIMEZONE
BEGIN:VEVENT
DTSTAMP:20260421T090516Z
LOCATION:Plenary Room (Bldg. 6 - 001)
DTSTART;TZID=Europe/Stockholm:20260629T100000
DTEND;TZID=Europe/Stockholm:20260629T101500
UID:submissions.pasc-conference.org_PASC26_sess107_plen101@linklings.com
SUMMARY:Welcome from the Local Host
DESCRIPTION:Hugues Abriel (University of Bern)\n\nWelcome from Prof. Dr. H
 ugues Abriel, Vice-Rector for Research and Innovation at the University of
  Bern.\n\nSession Chairs: Dominik Obrist (University of Bern) and Elaine M
 . Raybourn (University of Central Florida)\n\n
END:VEVENT
END:VCALENDAR
