BEGIN:VCALENDAR
VERSION:2.0
PRODID:Linklings LLC
BEGIN:VTIMEZONE
TZID:Europe/Stockholm
X-LIC-LOCATION:Europe/Stockholm
BEGIN:DAYLIGHT
TZOFFSETFROM:+0100
TZOFFSETTO:+0200
TZNAME:CEST
DTSTART:19700308T020000
RRULE:FREQ=YEARLY;BYMONTH=3;BYDAY=-1SU
END:DAYLIGHT
BEGIN:STANDARD
TZOFFSETFROM:+0200
TZOFFSETTO:+0100
TZNAME:CET
DTSTART:19701101T020000
RRULE:FREQ=YEARLY;BYMONTH=10;BYDAY=-1SU
END:STANDARD
END:VTIMEZONE
BEGIN:VEVENT
DTSTAMP:20260421T090515Z
LOCATION:Plenary Room (Bldg. 6 - 001)
DTSTART;TZID=Europe/Stockholm:20260629T101500
DTEND;TZID=Europe/Stockholm:20260629T103000
UID:submissions.pasc-conference.org_PASC26_sess107_plen102@linklings.com
SUMMARY:Welcome from the Conference Co-Chairs
DESCRIPTION:Elaine Raybourn (University of Central Florida) and Dominik Ob
 rist (University of Bern)\n\nThe conference co-chairs Dr. Elaine Raybourn 
 and Prof. Dominik Obrist open PASC26.\n\nSession Chairs: Dominik Obrist (U
 niversity of Bern) and Elaine M. Raybourn (University of Central Florida)\
 n\n
END:VEVENT
END:VCALENDAR
