BEGIN:VCALENDAR
VERSION:2.0
PRODID:Linklings LLC
BEGIN:VTIMEZONE
TZID:Europe/Stockholm
X-LIC-LOCATION:Europe/Stockholm
BEGIN:DAYLIGHT
TZOFFSETFROM:+0100
TZOFFSETTO:+0200
TZNAME:CEST
DTSTART:19700308T020000
RRULE:FREQ=YEARLY;BYMONTH=3;BYDAY=-1SU
END:DAYLIGHT
BEGIN:STANDARD
TZOFFSETFROM:+0200
TZOFFSETTO:+0100
TZNAME:CET
DTSTART:19701101T020000
RRULE:FREQ=YEARLY;BYMONTH=10;BYDAY=-1SU
END:STANDARD
END:VTIMEZONE
BEGIN:VEVENT
DTSTAMP:20260421T090513Z
LOCATION:Bldg. 6 - Room 002
DTSTART;TZID=Europe/Stockholm:20260629T173000
DTEND;TZID=Europe/Stockholm:20260629T180000
UID:submissions.pasc-conference.org_PASC26_sess114_msa114@linklings.com
SUMMARY:Panel discussion on "Needs and challenges for the development of a
  distributed and accelerated dense Numerical Linear Algebra library"
DESCRIPTION:Xinzhe Wu (Forschungszentrum Jülich), Davor Davidovic (Rudger 
 Boskovic Institute), Raffaele Solca (ETH Zurich / CSCS), Fabio Affinito (C
 INECA), and Hartwig Antz (Technical University of Munich)\n\nThis session 
 will be an open discussion on current developments and future directions i
 n the development of an exascale-ready distributed and accelerated Numeric
 al Linear Algebra library. The focus will be on the existing  challenges a
 nd the current and future efforts made by the ExaNLA committee to address 
 them and pave the way for an application-driven numerical linear algebra l
 ibrary capable of executing on multiple existing  and future accelerated s
 upercomputing platforms.\n\nDomain: Chemistry and Materials, Climate, Weat
 her, and Earth Sciences, Computational Methods and Applied Mathematics\n\n
 Session Chair: Edoardo Di Napoli (Forschungszentrum Jülich)\n\n
END:VEVENT
END:VCALENDAR
