BEGIN:VCALENDAR
VERSION:2.0
PRODID:Linklings LLC
BEGIN:VTIMEZONE
TZID:Europe/Stockholm
X-LIC-LOCATION:Europe/Stockholm
BEGIN:DAYLIGHT
TZOFFSETFROM:+0100
TZOFFSETTO:+0200
TZNAME:CEST
DTSTART:19700308T020000
RRULE:FREQ=YEARLY;BYMONTH=3;BYDAY=-1SU
END:DAYLIGHT
BEGIN:STANDARD
TZOFFSETFROM:+0200
TZOFFSETTO:+0100
TZNAME:CET
DTSTART:19701101T020000
RRULE:FREQ=YEARLY;BYMONTH=10;BYDAY=-1SU
END:STANDARD
END:VTIMEZONE
BEGIN:VEVENT
DTSTAMP:20260421T090513Z
LOCATION:Bldg. 6 - Room 003
DTSTART;TZID=Europe/Stockholm:20260629T160000
DTEND;TZID=Europe/Stockholm:20260629T180000
UID:submissions.pasc-conference.org_PASC26_sess115@linklings.com
SUMMARY:MS2B - Hardware–Software Co-Design for Trustworthy Digital Twins i
 n Fusion Energy Research
DESCRIPTION:This minisymposium explores how integrated co-design strategie
 s strengthen confidence in computational models for fusion energy. It exam
 ines how GPU-accelerated architectures enhance the reliability and reprodu
 cibility of digital twins for plasma physics. Fusion energy research combi
 nes complex multi-physics phenomena with AI-driven models, requiring conve
 rgence between hardware innovation, software optimization, and scientific 
 validation. The session brings together experts from academia, industry, a
 nd major European programmes to highlight co-design efforts that balance s
 imulation scalability with scientific integrity. Via the contributions of 
 EUROfusion partners (SCITAS and CINECA) and the technology partner NVIDIA,
  this minisymposium will discuss GPU-enabled advances in plasma modelling,
  uncertainty quantification, and digital twin fidelity. The discussion emp
 hasizes verification, validation, and reproducibility as foundational to s
 cientific trust in high-performance fusion research. The session aims to d
 emonstrate concrete co-design pathways from hardware to scientific validat
 ion, establish a reference architecture for trustworthy digital twins appl
 icable beyond fusion, foster collaboration among HPC engineers, domain sci
 entists, and AI experts, and produce actionable guidelines enhancing repro
 ducibility and transparency in co-designed HPC applications.\n\nThe Fusion
  Digital Twin: Integrating Databases, Simulation, AI Surrogates and Visual
 ization for Design Workflows of Fusion Devices\n\nDesigning elements for n
 uclear fusion devices is a challenge at the crossroads of engineering and 
 HPC, requiring data from simulation codes, experimental databases, and eng
 ineering tools. Previous work shows that separate applications of heteroge
 neous software greatly complexify the engineering anal...\n\n\nFlorian Cab
 ot (EPFL)\n---------------------\nIntegrating AI into Trustworthy Workflow
 s for Digital Twins. A Fusion Perspective.\n\nAdvances in high-performance
  computing (HPC) and artificial intelligence (AI) are transforming how com
 plex, multidisciplinary science problems are addressed. Fusion is one of t
 hose domains waiting to be disrupted. Historically, theory, engineering an
 d operations were living in different silos, each ...\n\n\nPeter Messmer a
 nd Filippo Spiga (NVIDIA Inc.) and John Stone (NVIDIA Inc)\n--------------
 -------\nBuilding Trust in Fusion Science through Co-Designed HPC Infrastr
 ucture\n\nFusion is regarded as a sustainable and almost infinite source o
 f energy, making it essential for the future energy landscape. Achieving c
 ontrolled fusion requires a deep understanding of the plasma in which fusi
 on reactions occur. However, the plasma processes involved span multiple s
 patial and tem...\n\n\nNitin Shukla and Alessandro Marani (SuperComputing 
 Applications and Innovation Department, CINECA)\n---------------------\nFr
 om Physics to Hardware: Co-Designing Fusion Codes for Exascale Systems\n\n
 Plasma fusion releases massive amounts of energy, making it an important a
 rea of research for future energy production. However, the experimental de
 vices required to study magnetically confined plasmas are extremely expens
 ive. Numerical simulations are therefore a crucial tool for studying such 
 syst...\n\n\nEmily Bourne (EPFL), Virginie Grandgirard (CEA), Yuuichi Asah
 i and Julien Bigot (Maison de la Simulation), Ariel De Vora and Peter Donn
 el (CEA), Alexander Hoffmann (Max Planck Institute for Plasma Physics), Ab
 delhadi Kara and Philipp Krah (CEA), Etienne Malaboeuf (CINES), Kevin Obre
 jan (CEA), Thomas Padioleau (Maison de la Simulation), Matthieu Protais (C
 EA), and Pauline Vidal (Max Planck Institute for Plasma Physics)\n\nDomain
 : Engineering, Physics, Computational Methods and Applied Mathematics\n\nS
 ession Chairs: Gilles Fourestey (EPFL) and Filippo Spiga (NVIDIA Inc.)
END:VEVENT
END:VCALENDAR
