BEGIN:VCALENDAR
VERSION:2.0
PRODID:Linklings LLC
BEGIN:VTIMEZONE
TZID:Europe/Stockholm
X-LIC-LOCATION:Europe/Stockholm
BEGIN:DAYLIGHT
TZOFFSETFROM:+0100
TZOFFSETTO:+0200
TZNAME:CEST
DTSTART:19700308T020000
RRULE:FREQ=YEARLY;BYMONTH=3;BYDAY=-1SU
END:DAYLIGHT
BEGIN:STANDARD
TZOFFSETFROM:+0200
TZOFFSETTO:+0100
TZNAME:CET
DTSTART:19701101T020000
RRULE:FREQ=YEARLY;BYMONTH=10;BYDAY=-1SU
END:STANDARD
END:VTIMEZONE
BEGIN:VEVENT
DTSTAMP:20260421T090514Z
LOCATION:Plenary Room (Bldg. 6 - 001)
DTSTART;TZID=Europe/Stockholm:20260629T192500
DTEND;TZID=Europe/Stockholm:20260629T192600
UID:submissions.pasc-conference.org_PASC26_sess124_pos138@linklings.com
SUMMARY:Co-designing Regional High-Performance Computing Ecosystems in Afr
 ica: A Pilot Focus on Kenya and West Africa
DESCRIPTION:Pauline Karega (University of Manchester, Bioinformatics Hub o
 f Kenya initiative)\n\nHigh-performance computing is becoming more importa
 nt for bioinformatics, genomics, and public health research. However, in A
 frica, its growth and use remain uneven, scattered, and poorly documented.
  This study examines current HPC capacity and access models in West, East,
  and Southern Africa, drawing on both published and grey literature to des
 cribe institutional clusters, national facilities, and collaborative platf
 orms. We find that, even with abundant computing power, access is governed
  by different institutional, project, and consortium models, which makes i
 t hard for regions to collaborate and for everyone to use these resources 
 equitably.\n\nWhile cloud computing is a solution, better, more coordinate
 d HPC systems remain crucial for research that requires large amounts of d
 ata. We propose a regional plan to improve HPC by connecting existing reso
 urces rather than creating new ones, linking large national centers with s
 maller institutional clusters through shared resources and access, spearhe
 aded by a community-led group. By incorporating community governance and b
 uilding skills into the codesign framework, the approach aims to make Afri
 can HPC a collaborative research network that aligns with both regional go
 als and global standards.\n\n
END:VEVENT
END:VCALENDAR
