BEGIN:VCALENDAR
VERSION:2.0
PRODID:Linklings LLC
BEGIN:VTIMEZONE
TZID:Europe/Stockholm
X-LIC-LOCATION:Europe/Stockholm
BEGIN:DAYLIGHT
TZOFFSETFROM:+0100
TZOFFSETTO:+0200
TZNAME:CEST
DTSTART:19700308T020000
RRULE:FREQ=YEARLY;BYMONTH=3;BYDAY=-1SU
END:DAYLIGHT
BEGIN:STANDARD
TZOFFSETFROM:+0200
TZOFFSETTO:+0100
TZNAME:CET
DTSTART:19701101T020000
RRULE:FREQ=YEARLY;BYMONTH=10;BYDAY=-1SU
END:STANDARD
END:VTIMEZONE
BEGIN:VEVENT
DTSTAMP:20260421T090513Z
LOCATION:Bldg. 6 - Room 104
DTSTART;TZID=Europe/Stockholm:20260629T173000
DTEND;TZID=Europe/Stockholm:20260629T180000
UID:submissions.pasc-conference.org_PASC26_sess125_msa126@linklings.com
SUMMARY:Open Discussion on Ethical and Societal Considerations Ensuring Tr
 ust in Scientific Computing
DESCRIPTION:Jay Lofstead (Sandia National Laboratories) and Jakob Luettgau
  (INRIA)\n\nThis session will be an open discussion with a focus on ensuri
 ng trust in scientific computing through ethical and societal lens. Partic
 ipants are encouraged to ask questions, challenge perspectives, and contri
 bute their experiences to foster a lively, interdisciplinary conversation.
  The session will take place in two phases: We will start the discussion w
 ith several prepared questions and challenges focused on the intersection 
 of scientific computing and trust in science, and then open the session to
  questions and challenges from attendees on ethical and societal considera
 tions for scientific computing.\n\nDomain: Chemistry and Materials, Climat
 e, Weather, and Earth Sciences, Applied Social Sciences and Humanities\n\n
 Session Chairs: Jakob Luettgau (INRIA); Nico Formánek (HLRS); and Jay Lofs
 tead (Sandia National Laboratories, University of New Mexico)\n\n
END:VEVENT
END:VCALENDAR
