BEGIN:VCALENDAR
VERSION:2.0
PRODID:Linklings LLC
BEGIN:VTIMEZONE
TZID:Europe/Stockholm
X-LIC-LOCATION:Europe/Stockholm
BEGIN:DAYLIGHT
TZOFFSETFROM:+0100
TZOFFSETTO:+0200
TZNAME:CEST
DTSTART:19700308T020000
RRULE:FREQ=YEARLY;BYMONTH=3;BYDAY=-1SU
END:DAYLIGHT
BEGIN:STANDARD
TZOFFSETFROM:+0200
TZOFFSETTO:+0100
TZNAME:CET
DTSTART:19701101T020000
RRULE:FREQ=YEARLY;BYMONTH=10;BYDAY=-1SU
END:STANDARD
END:VTIMEZONE
BEGIN:VEVENT
DTSTAMP:20260421T090513Z
LOCATION:Bldg. 8 - Room B 101
DTSTART;TZID=Europe/Stockholm:20260629T172000
DTEND;TZID=Europe/Stockholm:20260629T180000
UID:submissions.pasc-conference.org_PASC26_sess126_msa204@linklings.com
SUMMARY:Panel session
DESCRIPTION:Vincenzo Eduardo Padulano (CERN)\n\nThis session will be dedic
 ated to a panel discussion and Q&A of the presenters of this minisymposium
 . Our aim is to identify and discuss common practices and challenges, and 
 share ideas on how to overcome these challenges and ultimately contribute 
 to HPC systems co-design.\n\nDomain: Climate, Weather, and Earth Sciences,
  Life Sciences, Physics, Computational Methods and Applied Mathematics\n\n
 Session Chairs: Florine Willemijn de Geus (CERN, University of Twente); Vi
 ncenzo Eduardo Padulano (CERN); and Ana-Lucia Varbanescu (University of Tw
 ente, University of Amsterdam)\n\n
END:VEVENT
END:VCALENDAR
