BEGIN:VCALENDAR
VERSION:2.0
PRODID:Linklings LLC
BEGIN:VTIMEZONE
TZID:Europe/Stockholm
X-LIC-LOCATION:Europe/Stockholm
BEGIN:DAYLIGHT
TZOFFSETFROM:+0100
TZOFFSETTO:+0200
TZNAME:CEST
DTSTART:19700308T020000
RRULE:FREQ=YEARLY;BYMONTH=3;BYDAY=-1SU
END:DAYLIGHT
BEGIN:STANDARD
TZOFFSETFROM:+0200
TZOFFSETTO:+0100
TZNAME:CET
DTSTART:19701101T020000
RRULE:FREQ=YEARLY;BYMONTH=10;BYDAY=-1SU
END:STANDARD
END:VTIMEZONE
BEGIN:VEVENT
DTSTAMP:20260421T090516Z
LOCATION:Plenary Room (Bldg. 6 - 001)
DTSTART;TZID=Europe/Stockholm:20260701T173000
DTEND;TZID=Europe/Stockholm:20260701T175000
UID:submissions.pasc-conference.org_PASC26_sess140@linklings.com
SUMMARY:Closing Session and Awards
DESCRIPTION:Presentation of ACM Student Research Competition Poster Awards
 : Jay Lofstead (Sandia National Laboratories, US)\n\nPresentation of PASC2
 6 Best Poster Awards: Dominik Obrist (University of Bern) and Elaine Raybo
 urn (University of Central Florida, USA)\n\nPresentation of PASC26 Best Pa
 per Award: Sally Ellingson (University of Kentucky, US) and Sherry Li (Law
 rence Berkeley National Laboratory, US)\n\nPASC25 Closing Remarks: Dominik
  Obrist (University of Bern) and Elaine Raybourn (University of Central Fl
 orida, USA)\n\nWelcome to PASC27\n\n\n\nSession Chairs: Dominik Obrist (Un
 iversity of Bern) and Elaine M. Raybourn (University of Central Florida)
END:VEVENT
END:VCALENDAR
