BEGIN:VCALENDAR
VERSION:2.0
PRODID:Linklings LLC
BEGIN:VTIMEZONE
TZID:Europe/Stockholm
X-LIC-LOCATION:Europe/Stockholm
BEGIN:DAYLIGHT
TZOFFSETFROM:+0100
TZOFFSETTO:+0200
TZNAME:CEST
DTSTART:19700308T020000
RRULE:FREQ=YEARLY;BYMONTH=3;BYDAY=-1SU
END:DAYLIGHT
BEGIN:STANDARD
TZOFFSETFROM:+0200
TZOFFSETTO:+0100
TZNAME:CET
DTSTART:19701101T020000
RRULE:FREQ=YEARLY;BYMONTH=10;BYDAY=-1SU
END:STANDARD
END:VTIMEZONE
BEGIN:VEVENT
DTSTAMP:20260421T090513Z
LOCATION:Bldg. 6 - Room 002
DTSTART;TZID=Europe/Stockholm:20260630T134500
DTEND;TZID=Europe/Stockholm:20260630T141500
UID:submissions.pasc-conference.org_PASC26_sess141_msa125@linklings.com
SUMMARY:A Multiscale, Multiphysics Framework for Multiphase Fluid Flow in 
 a Complex Subsurface Environment: Application to Sustainable Enhanced Oil 
 Recovery
DESCRIPTION:Martin Andersson, Fernando Alonso Marroquin, Mohamed Gamal Rez
 k, and Safwat Abdel-Azeim (King Fahd University of Petroleum and Minerals)
 \n\nWe have developed a computational framework for seamlessly bridging mo
 lecular scale properties via the pore and core scale all the way to the fi
 eld scale for multiphase flow in porous media. \n\nWe combined thermodynam
 ic and kinetic effects on the molecular scale using density functional the
 ory, COSMO-RS thermodynamics, molecular dynamics simulations and numerical
  modelling of diffusion across a liquid-liquid interface. The combination 
 of computational techniques allowed us to identify the underlying molecula
 r scale mechanism for how a novel sustainable additive changes wettability
  in limestone reservoirs. The framework also allowed us to compare our cal
 culations directly to a large set of experimental data ranging from the mo
 lecular partitioning and interfacial tension in water-oil systems, to rock
  wettability on the pore scale.\n\nIn the second stage, the computed surfa
 ce wettability is used as key input to predict the capillary-pressure satu
 ration curve using pore morphology and percolation theory methods on the e
 xperimental pore network of the real rock. This is used to explain core sc
 ale experimental saturation profiles and improved oil recovery, and provid
 es a standard input for reservoir simulations used to assess field scale p
 roperties.\n\nDomain: Chemistry and Materials, Computational Methods and A
 pplied Mathematics\n\nSession Chairs: Mattia Turchi (Empa) and Ivan Lunati
  (Empa)\n\n
END:VEVENT
END:VCALENDAR
