BEGIN:VCALENDAR
VERSION:2.0
PRODID:Linklings LLC
BEGIN:VTIMEZONE
TZID:Europe/Stockholm
X-LIC-LOCATION:Europe/Stockholm
BEGIN:DAYLIGHT
TZOFFSETFROM:+0100
TZOFFSETTO:+0200
TZNAME:CEST
DTSTART:19700308T020000
RRULE:FREQ=YEARLY;BYMONTH=3;BYDAY=-1SU
END:DAYLIGHT
BEGIN:STANDARD
TZOFFSETFROM:+0200
TZOFFSETTO:+0100
TZNAME:CET
DTSTART:19701101T020000
RRULE:FREQ=YEARLY;BYMONTH=10;BYDAY=-1SU
END:STANDARD
END:VTIMEZONE
BEGIN:VEVENT
DTSTAMP:20260421T090513Z
LOCATION:Bldg. 6 - Room 103
DTSTART;TZID=Europe/Stockholm:20260630T151500
DTEND;TZID=Europe/Stockholm:20260630T154500
UID:submissions.pasc-conference.org_PASC26_sess145_msa215@linklings.com
SUMMARY:Panel Discussion on Complex Workflows, Resilience, and Data Manage
 ment Challenges for Large Scale Experiments
DESCRIPTION:Verena Ingrid Martinez Outschoorn (University of Massachusetts
  Amherst, CERN)\n\nA panel involving all the speakers in the session and a
  moderator would discuss integrated approaches for building scalable, effi
 cient and resilient workflows that support data intensive science. While t
 his session considers solutions being developed for fields such as nuclear
  fusion, nuclear and high-energy physics, and astronomy, the developments 
 are also relevant for other data-intensive areas such as manufacturing, ma
 terial science, bio-imaging, etc. The panel will discuss how current solut
 ions and future opportunities to the computational and data challenges beh
 ind modern scientific workflows have potential for broader applications to
  a range of domains.\n\nDomain: Engineering, Physics, Computational Method
 s and Applied Mathematics\n\nSession Chairs: Raees Ahmad Khan (University 
 of Pittsburgh, CERN); Tatiana Korchuganova (University of Pittsburgh, CERN
 ); and Alexei Klimentov (Brookhaven National Laboratory)\n\n
END:VEVENT
END:VCALENDAR
