BEGIN:VCALENDAR
VERSION:2.0
PRODID:Linklings LLC
BEGIN:VTIMEZONE
TZID:Europe/Stockholm
X-LIC-LOCATION:Europe/Stockholm
BEGIN:DAYLIGHT
TZOFFSETFROM:+0100
TZOFFSETTO:+0200
TZNAME:CEST
DTSTART:19700308T020000
RRULE:FREQ=YEARLY;BYMONTH=3;BYDAY=-1SU
END:DAYLIGHT
BEGIN:STANDARD
TZOFFSETFROM:+0200
TZOFFSETTO:+0100
TZNAME:CET
DTSTART:19701101T020000
RRULE:FREQ=YEARLY;BYMONTH=10;BYDAY=-1SU
END:STANDARD
END:VTIMEZONE
BEGIN:VEVENT
DTSTAMP:20260421T090514Z
LOCATION:Bldg. 6 - Room 104
DTSTART;TZID=Europe/Stockholm:20260630T144500
DTEND;TZID=Europe/Stockholm:20260630T151500
UID:submissions.pasc-conference.org_PASC26_sess146_msa232@linklings.com
SUMMARY:1HealthAI, an AI Factory Oriented to Support Data Processing for t
 he Global Health
DESCRIPTION:Isabel Campos (IFCA/CSIC)\n\n1HealthAI (European One-Health AI
  Factory) is an Spanish specialized AI Factory dedicated to the One Health
  domain (integrating human, animal, and environmental health). Hosted by t
 he Galicia Supercomputing Center (CESGA) and co-led by the Spanish Nationa
 l Research Council (CSIC), the consortium includes the universities of A C
 oruña, Santiago de Compostela, and Vigo, as well as DATAlife and Gradiant.
  The project aims to position Europe as a global leader in trustworthy AI 
 for life sciences by creating a "one-stop shop" for researchers, SMEs, and
  startups. It integrates three core components: a sovereign EuroHPC AI-opt
 imized supercomputing node, a federated One- Health dataspace, and a regul
 ation-ready trust sandbox for validating high-risk AI models.\n\nDomain: L
 ife Sciences, Computational Methods and Applied Mathematics\n\nSession Cha
 ir: Elaine M. Raybourn (University of Central Florida)\n\n
END:VEVENT
END:VCALENDAR
