BEGIN:VCALENDAR
VERSION:2.0
PRODID:Linklings LLC
BEGIN:VTIMEZONE
TZID:Europe/Stockholm
X-LIC-LOCATION:Europe/Stockholm
BEGIN:DAYLIGHT
TZOFFSETFROM:+0100
TZOFFSETTO:+0200
TZNAME:CEST
DTSTART:19700308T020000
RRULE:FREQ=YEARLY;BYMONTH=3;BYDAY=-1SU
END:DAYLIGHT
BEGIN:STANDARD
TZOFFSETFROM:+0200
TZOFFSETTO:+0100
TZNAME:CET
DTSTART:19701101T020000
RRULE:FREQ=YEARLY;BYMONTH=10;BYDAY=-1SU
END:STANDARD
END:VTIMEZONE
BEGIN:VEVENT
DTSTAMP:20260421T090513Z
LOCATION:Bldg. 6 - Room 104
DTSTART;TZID=Europe/Stockholm:20260630T151500
DTEND;TZID=Europe/Stockholm:20260630T154500
UID:submissions.pasc-conference.org_PASC26_sess146_msa233@linklings.com
SUMMARY:Responsible AI Systems at Scale Panel Discussion
DESCRIPTION:Elaine Raybourn (University of Central Florida)\n\ntbd\n\nDoma
 in: Life Sciences, Computational Methods and Applied Mathematics\n\nSessio
 n Chair: Elaine M. Raybourn (University of Central Florida)\n\n
END:VEVENT
END:VCALENDAR
