BEGIN:VCALENDAR
VERSION:2.0
PRODID:Linklings LLC
BEGIN:VTIMEZONE
TZID:Europe/Stockholm
X-LIC-LOCATION:Europe/Stockholm
BEGIN:DAYLIGHT
TZOFFSETFROM:+0100
TZOFFSETTO:+0200
TZNAME:CEST
DTSTART:19700308T020000
RRULE:FREQ=YEARLY;BYMONTH=3;BYDAY=-1SU
END:DAYLIGHT
BEGIN:STANDARD
TZOFFSETFROM:+0200
TZOFFSETTO:+0100
TZNAME:CET
DTSTART:19701101T020000
RRULE:FREQ=YEARLY;BYMONTH=10;BYDAY=-1SU
END:STANDARD
END:VTIMEZONE
BEGIN:VEVENT
DTSTAMP:20260421T090512Z
LOCATION:Bldg. 8 - Room B 101
DTSTART;TZID=Europe/Stockholm:20260630T151500
DTEND;TZID=Europe/Stockholm:20260630T154500
UID:submissions.pasc-conference.org_PASC26_sess147_msa118@linklings.com
SUMMARY:Open Discussion: What does Open Development need and how can we ac
 hieve this?
DESCRIPTION:Jan Frederik Engels (German Climate Computing Centre (DKRZ))\n
 \nThis session will be an open discussion on the topic "What does Open Dev
 elopment need and how can we achieve this?" where we also invite the audie
 nce to participate and contribute their experiences and ambitions with Ope
 n Development.\n\nDomain: Climate, Weather, and Earth Sciences, Applied So
 cial Sciences and Humanities\n\nSession Chair: Jan Frederik Engels (German
  Climate Computing Centre)\n\n
END:VEVENT
END:VCALENDAR
