BEGIN:VCALENDAR
VERSION:2.0
PRODID:Linklings LLC
BEGIN:VTIMEZONE
TZID:Europe/Stockholm
X-LIC-LOCATION:Europe/Stockholm
BEGIN:DAYLIGHT
TZOFFSETFROM:+0100
TZOFFSETTO:+0200
TZNAME:CEST
DTSTART:19700308T020000
RRULE:FREQ=YEARLY;BYMONTH=3;BYDAY=-1SU
END:DAYLIGHT
BEGIN:STANDARD
TZOFFSETFROM:+0200
TZOFFSETTO:+0100
TZNAME:CET
DTSTART:19701101T020000
RRULE:FREQ=YEARLY;BYMONTH=10;BYDAY=-1SU
END:STANDARD
END:VTIMEZONE
BEGIN:VEVENT
DTSTAMP:20260421T090513Z
LOCATION:Bldg. 8 - Room B 102
DTSTART;TZID=Europe/Stockholm:20260630T150500
DTEND;TZID=Europe/Stockholm:20260630T154500
UID:submissions.pasc-conference.org_PASC26_sess148_msa247@linklings.com
SUMMARY:Panel
DESCRIPTION:Nick Brown (EPCC), Monica Morrison (NCAR), Rui Apóstolo (EPCC)
 , Ben Shipway (Met Office), and Ioana Colfescu (University of St Andrews)\
 n\nThis panel will explore and unpack the themes raised during the mini-sy
 mposium and give the speakers an opportunity to have a dialogue with the a
 udience\n\nDomain: Computational Methods and Applied Mathematics\n\nSessio
 n Chairs: Nick Brown (EPCC); Michele Weiland (EPCC, The  University of Edi
 nburgh); Adrian Jackson (The University of Edinburgh); and Rui Apostolo (E
 PCC)\n\n
END:VEVENT
END:VCALENDAR
