BEGIN:VCALENDAR
VERSION:2.0
PRODID:Linklings LLC
BEGIN:VTIMEZONE
TZID:Europe/Stockholm
X-LIC-LOCATION:Europe/Stockholm
BEGIN:DAYLIGHT
TZOFFSETFROM:+0100
TZOFFSETTO:+0200
TZNAME:CEST
DTSTART:19700308T020000
RRULE:FREQ=YEARLY;BYMONTH=3;BYDAY=-1SU
END:DAYLIGHT
BEGIN:STANDARD
TZOFFSETFROM:+0200
TZOFFSETTO:+0100
TZNAME:CET
DTSTART:19701101T020000
RRULE:FREQ=YEARLY;BYMONTH=10;BYDAY=-1SU
END:STANDARD
END:VTIMEZONE
BEGIN:VEVENT
DTSTAMP:20260421T090515Z
LOCATION:Bldg. 6 - Room 003
DTSTART;TZID=Europe/Stockholm:20260701T103000
DTEND;TZID=Europe/Stockholm:20260701T110000
UID:submissions.pasc-conference.org_PASC26_sess150_msa104@linklings.com
SUMMARY:Understanding and optimising magnetic topology in the stellarator 
 edge
DESCRIPTION:Robert Davies (Max Planck Institute for Plasma Physics)\n\nMag
 netic confinement fusion relies on confining a plasma (consisting of hydro
 gen ions and electrons) using carefully-designed magnetic fields, and heat
 ing to fusion-relevant temperatures. In steady state, a reactor would be c
 onstantly producing heat and helium “ash”, which steadily leaks out of the
  confining magnetic field and must be suitable handled; plasma-facing comp
 onents must not be excessively damaged and helium must not be allowed to b
 uild up and choke the confined plasma. This gives rise to an interesting (
 and currently open) research question: how can the magnetic field in the e
 dge of a stellarator be best designed to manage the exhaust?\n\nWe develop
  computationally fast tools to characterise the magnetic structure in the 
 edge of stellarators, in particular, magnetic X/O points and the manifolds
  which act as primary transport pathways for plasma heat and particles. In
  this talk we describe the development of these tools and their applicatio
 n, specifically: (1) application to understanding existing stellarator exp
 eriments and finding interesting and experimentally interesting magnetic c
 onfigurations; (2) development of optimisation schemes, such that magnetic
  structure in new stellarators can be explicitly designed.\n\nDomain: Phys
 ics, Computational Methods and Applied Mathematics\n\nSession Chairs: Flor
 ian Hindenlang (Max Planck Institute for Plasma Physics); Stephan Brunner 
 (EPFL); and Eric Sonnendrücker (Max Planck Institute for Plasma Physics, T
 echnical University of Munich)\n\n
END:VEVENT
END:VCALENDAR
