BEGIN:VCALENDAR
VERSION:2.0
PRODID:Linklings LLC
BEGIN:VTIMEZONE
TZID:Europe/Stockholm
X-LIC-LOCATION:Europe/Stockholm
BEGIN:DAYLIGHT
TZOFFSETFROM:+0100
TZOFFSETTO:+0200
TZNAME:CEST
DTSTART:19700308T020000
RRULE:FREQ=YEARLY;BYMONTH=3;BYDAY=-1SU
END:DAYLIGHT
BEGIN:STANDARD
TZOFFSETFROM:+0200
TZOFFSETTO:+0100
TZNAME:CET
DTSTART:19701101T020000
RRULE:FREQ=YEARLY;BYMONTH=10;BYDAY=-1SU
END:STANDARD
END:VTIMEZONE
BEGIN:VEVENT
DTSTAMP:20260421T090513Z
LOCATION:Bldg. 6 - Room 004
DTSTART;TZID=Europe/Stockholm:20260701T093000
DTEND;TZID=Europe/Stockholm:20260701T100000
UID:submissions.pasc-conference.org_PASC26_sess151_msa195@linklings.com
SUMMARY:The Kokkos project and its integration in HPSF
DESCRIPTION:Cédric Chevalier (CEA, Université Paris-Saclay)\n\nIn this pre
 sentation, we will outline the key impacts on the Kokkos project and its e
 cosystem as it becomes a funded project of the High Performance Software F
 oundation. We will begin by explaining Kokkos and its management prior to 
 joining the HPSF. We will then discuss the updated governance process and 
 its role in increasing contributor numbers. We will also detail Kokkos’s i
 nteractions with the HPSF, particularly its working groups. Finally, we wi
 ll introduce our project-wide open working groups focused on CI, Build and
  Packaging and Teaching.\n\nDomain: Applied Social Sciences and Humanities
 , Computational Methods and Applied Mathematics\n\nSession Chairs: Julien 
 Bigot (Maison de la Simulation; CEA, CNRS, université Paris-Saclay, UVSQ);
  Todd Gamblin (Lawrence Livermore National Laboratory); and Emily Bourne (
 EPFL)\n\n
END:VEVENT
END:VCALENDAR
