BEGIN:VCALENDAR
VERSION:2.0
PRODID:Linklings LLC
BEGIN:VTIMEZONE
TZID:Europe/Stockholm
X-LIC-LOCATION:Europe/Stockholm
BEGIN:DAYLIGHT
TZOFFSETFROM:+0100
TZOFFSETTO:+0200
TZNAME:CEST
DTSTART:19700308T020000
RRULE:FREQ=YEARLY;BYMONTH=3;BYDAY=-1SU
END:DAYLIGHT
BEGIN:STANDARD
TZOFFSETFROM:+0200
TZOFFSETTO:+0100
TZNAME:CET
DTSTART:19701101T020000
RRULE:FREQ=YEARLY;BYMONTH=10;BYDAY=-1SU
END:STANDARD
END:VTIMEZONE
BEGIN:VEVENT
DTSTAMP:20260421T090513Z
LOCATION:Bldg. 6 - Room 004
DTSTART;TZID=Europe/Stockholm:20260701T103000
DTEND;TZID=Europe/Stockholm:20260701T110000
UID:submissions.pasc-conference.org_PASC26_sess151_msa209@linklings.com
SUMMARY:Panel : The future of HPSF
DESCRIPTION:Emily Bourne (EPFL), Megan Phinney (Los Alamos National Labora
 tory), Cédric Chevalier (CEA), and Nur Aiman Fadel (ETH Zurich / CSCS)\n\n
 This panel session will begin with a 5 minute presentation from the panel 
 members who have not previously presented before opening to audience quest
 ions.\n\nCédric Chevallier will represent the Kokkos project and will pres
 ent how the role of HPSF in the project. Emily Bourne will represent the G
 yselalib++ project and will present the considerations that arise when eva
 luating whether a scientific software project should join a software found
 ation.\n\nThe panel session itself will discuss what directions the founda
 tion could target to improve itself and ensure its goals of software susta
 inability through collaborative co-design for an even larger community.\n\
 nDomain: Applied Social Sciences and Humanities, Computational Methods and
  Applied Mathematics\n\nSession Chairs: Julien Bigot (Maison de la Simulat
 ion; CEA, CNRS, université Paris-Saclay, UVSQ); Todd Gamblin (Lawrence Liv
 ermore National Laboratory); and Emily Bourne (EPFL)\n\n
END:VEVENT
END:VCALENDAR
