BEGIN:VCALENDAR
VERSION:2.0
PRODID:Linklings LLC
BEGIN:VTIMEZONE
TZID:Europe/Stockholm
X-LIC-LOCATION:Europe/Stockholm
BEGIN:DAYLIGHT
TZOFFSETFROM:+0100
TZOFFSETTO:+0200
TZNAME:CEST
DTSTART:19700308T020000
RRULE:FREQ=YEARLY;BYMONTH=3;BYDAY=-1SU
END:DAYLIGHT
BEGIN:STANDARD
TZOFFSETFROM:+0200
TZOFFSETTO:+0100
TZNAME:CET
DTSTART:19701101T020000
RRULE:FREQ=YEARLY;BYMONTH=10;BYDAY=-1SU
END:STANDARD
END:VTIMEZONE
BEGIN:VEVENT
DTSTAMP:20260421T090512Z
LOCATION:Bldg. 6 - Room 004
DTSTART;TZID=Europe/Stockholm:20260629T160000
DTEND;TZID=Europe/Stockholm:20260629T163000
UID:submissions.pasc-conference.org_PASC26_sess159_msa148@linklings.com
SUMMARY:Panel Discussion on serving generative AI on HPC
DESCRIPTION:Sukanya Nath (University of Bern, Data Science Lab)\n\nThis se
 ssion will be a panel discussion about ad hoc solutions of serving generat
 ive AI models over HPC  infrastructure including best practices, minimal v
 iable solutions, and ideal configurations in research contexts.\n\nDomain:
  Chemistry and Materials, Climate, Weather, and Earth Sciences, Applied So
 cial Sciences and Humanities, Engineering, Life Sciences, Physics, Computa
 tional Methods and Applied Mathematics\n\nSession Chairs: Tobias Hodel (Un
 iversity of Bern, Switzerland) and Sukanya Nath (University of Bern)\n\n
END:VEVENT
END:VCALENDAR
