BEGIN:VCALENDAR
VERSION:2.0
PRODID:Linklings LLC
BEGIN:VTIMEZONE
TZID:Europe/Stockholm
X-LIC-LOCATION:Europe/Stockholm
BEGIN:DAYLIGHT
TZOFFSETFROM:+0100
TZOFFSETTO:+0200
TZNAME:CEST
DTSTART:19700308T020000
RRULE:FREQ=YEARLY;BYMONTH=3;BYDAY=-1SU
END:DAYLIGHT
BEGIN:STANDARD
TZOFFSETFROM:+0200
TZOFFSETTO:+0100
TZNAME:CET
DTSTART:19701101T020000
RRULE:FREQ=YEARLY;BYMONTH=10;BYDAY=-1SU
END:STANDARD
END:VTIMEZONE
BEGIN:VEVENT
DTSTAMP:20260421T090513Z
LOCATION:Bldg. 6 - Room 103
DTSTART;TZID=Europe/Stockholm:20260701T153000
DTEND;TZID=Europe/Stockholm:20260701T160000
UID:submissions.pasc-conference.org_PASC26_sess162_msa205@linklings.com
SUMMARY:Panel Discussion Foundation model for weather and climate
DESCRIPTION:Xavier Lapillonne (MeteoSwiss)\n\nThe panel discussion will ex
 plore the challenges and opportunities of using foundation models for weat
 her and climate.\n\nDomain: Climate, Weather, and Earth Sciences\n\nSessio
 n Chairs: Xavier Lapillonne (MeteoSwiss); Ilaria Luise (CERN); and Sebasti
 an Schemm (Cambridge University, UK)\n\n
END:VEVENT
END:VCALENDAR
